BEGIN:VCALENDAR
VERSION:2.0
PRODID:-//Lombard et Guerin - Gestion - ECPv6.0.11//NONSGML v1.0//EN
CALSCALE:GREGORIAN
METHOD:PUBLISH
X-ORIGINAL-URL:https://lombard-et-guerin.com
X-WR-CALDESC:évènements pour Lombard et Guerin - Gestion
REFRESH-INTERVAL;VALUE=DURATION:PT1H
X-Robots-Tag:noindex
X-PUBLISHED-TTL:PT1H
BEGIN:VTIMEZONE
TZID:UTC
BEGIN:STANDARD
TZOFFSETFROM:+0000
TZOFFSETTO:+0000
TZNAME:UTC
DTSTART:20200101T000000
END:STANDARD
END:VTIMEZONE
BEGIN:VEVENT
DTSTART;VALUE=DATE:20201204
DTEND;VALUE=DATE:20201225
DTSTAMP:20260421T101840
CREATED:20200414T084017Z
LAST-MODIFIED:20201001T064116Z
UID:13202-1607040000-1608854399@lombard-et-guerin.com
SUMMARY:Marché de Noël de Neuilly
DESCRIPTION:Décembre 2020
URL:https://lombard-et-guerin.com/evenement/marche-de-noel-de-neuilly
LOCATION:Neuilly
CATEGORIES:Marchés à thème
ATTACH;FMTTYPE=image/jpeg:https://lombard-et-guerin.com/wp-content/uploads/2020/04/marches-de-noel.jpg
END:VEVENT
BEGIN:VEVENT
DTSTART;VALUE=DATE:20201205
DTEND;VALUE=DATE:20201206
DTSTAMP:20260421T101840
CREATED:20200414T084241Z
LAST-MODIFIED:20200414T084241Z
UID:13214-1607126400-1607212799@lombard-et-guerin.com
SUMMARY:Marché de Noël et Fête des lumières de Givors
DESCRIPTION:
URL:https://lombard-et-guerin.com/evenement/marche-de-noel-et-fete-des-lumieres-de-givors
LOCATION:Givors
CATEGORIES:Marchés à thème
ATTACH;FMTTYPE=image/jpeg:https://lombard-et-guerin.com/wp-content/uploads/2020/04/marches-de-noel.jpg
END:VEVENT
END:VCALENDAR