BEGIN:VCALENDAR
VERSION:2.0
PRODID:-//Lombard et Guerin - Gestion - ECPv6.0.11//NONSGML v1.0//EN
CALSCALE:GREGORIAN
METHOD:PUBLISH
X-WR-CALNAME:Lombard et Guerin - Gestion
X-ORIGINAL-URL:https://lombard-et-guerin.com
X-WR-CALDESC:évènements pour Lombard et Guerin - Gestion
REFRESH-INTERVAL;VALUE=DURATION:PT1H
X-Robots-Tag:noindex
X-PUBLISHED-TTL:PT1H
BEGIN:VTIMEZONE
TZID:UTC
BEGIN:STANDARD
TZOFFSETFROM:+0000
TZOFFSETTO:+0000
TZNAME:UTC
DTSTART:20200101T000000
END:STANDARD
END:VTIMEZONE
BEGIN:VEVENT
DTSTART;VALUE=DATE:20200601
DTEND;VALUE=DATE:20200901
DTSTAMP:20260421T152122
CREATED:20200421T134949Z
LAST-MODIFIED:20200609T091908Z
UID:13263-1590969600-1598918399@lombard-et-guerin.com
SUMMARY:Marchés des Producteurs - Crest
DESCRIPTION:Les jeudis de Juin\, Juillet & Août 2020\nDe 17h à 21h
URL:https://lombard-et-guerin.com/evenement/marches-des-producteurs-crest
LOCATION:Crest
CATEGORIES:Marchés à thème
ATTACH;FMTTYPE=image/jpeg:https://lombard-et-guerin.com/wp-content/uploads/2020/04/marchés-aux-producteurs.jpg
END:VEVENT
BEGIN:VEVENT
DTSTART;VALUE=DATE:20200606
DTEND;VALUE=DATE:20200919
DTSTAMP:20260421T152122
CREATED:20200421T135230Z
LAST-MODIFIED:20200609T091903Z
UID:13264-1591401600-1600473599@lombard-et-guerin.com
SUMMARY:Marchés artisanaux - Crest
DESCRIPTION:Les samedis du 6 juin au 19 septembre
URL:https://lombard-et-guerin.com/evenement/marches-artisanaux-crest
CATEGORIES:Marchés à thème
ATTACH;FMTTYPE=image/jpeg:https://lombard-et-guerin.com/wp-content/uploads/2020/04/marché-artisanaux.jpg
END:VEVENT
END:VCALENDAR